BEGIN:VCALENDAR
VERSION:2.0
PRODID:-//wp-events-plugin.com//7.2.3.1//EN
BEGIN:VEVENT
UID:784@lansingbrewingcompany.com
DTSTART;TZID=America/Detroit:20240601T190000
DTEND;TZID=America/Detroit:20240601T220000
DTSTAMP:20240519T010134Z
URL:https://www.lansingbrewingcompany.com/events/live-music-with-atomic-an
 nie-7/
SUMMARY:Live Music with Atomic Annie
DESCRIPTION:Mid-Michigan based five-piece cover band\, Atomic Annie\, bring
 s a unique style and contagious energy to music you know and love. Spannin
 g favorite classic 60/70s rock to 80s MTV classics\, and 90’s alternativ
 e to modern rock/pop covers\, Atomic Annie will get your face smiling\, to
 es tapping\, and feet dancing.\n\nVeterans of the Mid-Michigan music scene
  for many years\, Atomic Annie is led by vocal fireball Rachel Helinski\, 
 backed by guitarists Dennis Benjamin and Troy Hale\, Clark Hubbard on drum
 s\, and Phil Schrantz on bass.\n\nThey’ve got the tunes. We’ve got the
  beer. Now all we need is YOU!\n\n
CATEGORIES:Live Music
LOCATION:Lansing Brewing Company\, 518 E Shiawassee St\, Lansing\, Michigan
 \, 48912\, United States
X-APPLE-STRUCTURED-LOCATION;VALUE=URI;X-ADDRESS=518 E Shiawassee St\, Lansi
 ng\, Michigan\, 48912\, United States;X-APPLE-RADIUS=100;X-TITLE=Lansing B
 rewing Company:geo:0,0
END:VEVENT
BEGIN:VTIMEZONE
TZID:America/Detroit
X-LIC-LOCATION:America/Detroit
BEGIN:DAYLIGHT
DTSTART:20240310T030000
TZOFFSETFROM:-0500
TZOFFSETTO:-0400
TZNAME:EDT
END:DAYLIGHT
END:VTIMEZONE
END:VCALENDAR