BEGIN:VCALENDAR
VERSION:2.0
PRODID:-//wp-events-plugin.com//7.2.3.1//EN
BEGIN:VEVENT
UID:25@lansingbrewingcompany.com
DTSTART:20180901T010000Z
DTEND:20180901T033000Z
DTSTAMP:20180719T182641Z
URL:https://www.lansingbrewingcompany.com/events/live-music-w-sam-woolf/
SUMMARY:Live Music w/ Sam Woolf
DESCRIPTION:SAM WOOLF is a highly collaborative singer-songwriter known fo
 r his original compositions and pitch perfect vocals\, Sam has been hailed
  as a "natural singer whose soul and passion are undeniable in every note 
 he sings." With the support of his network of fans\, dubbed the "Woolfpac
 k\," Sam's live performances and recordings have garnered millions of view
 s on social media. Sam has made music with a wide range of extraordinary a
 rtists\, including The Como Brothers\, Grammy Award winning producer Danny
  Blume\, Grammy nominated Engineer Kenta Yonesaka\, Stephen Puth\, produce
 r and guitarist Orion Meshorer\, Ricky Minor and Alex Preston.\n\nSam gain
 ed national recognition as a finalist on American Idol’s 13th Season whe
 re he placed in the Top 5.  In 2014\, Sam independently released his deb
 ut EP Pretend\, produced by Danny Blume which debuted at #9 on the Billboa
 rd Heatseeker’s Chart.  In 2016 and 2017\, Sam co-wrote and released th
 ree new singles\, "Fast 'n' Dirty"\, "Call Me Crazy" and "Stop Thinking 
 About It".  Additionally\, he recorded five original songs in 2017\, inc
 luding "On It"\, with the Como Brothers and noted engineer Kenta Yonesaka
  at Germano Studios in New York City. "On It" was released in 2018 and deb
 uted at the Music Lodge at the Sundance Film Festival and will be followed
  by the release of the four other songs of this set. Sam also wrote and wi
 ll release his solo acoustic single\, “Tricks on Me” in 2018.
LOCATION:Lansing Brewing Company\, 518 E Shiawassee St\, Lansing\, Michigan
 \, 48912\, United States
GEO:42.7368258;-84.54556149999996
X-APPLE-STRUCTURED-LOCATION;VALUE=URI;X-ADDRESS=518 E Shiawassee St\, Lansi
 ng\, Michigan\, 48912\, United States;X-APPLE-RADIUS=100;X-TITLE=Lansing B
 rewing Company:geo:42.7368258,-84.54556149999996
END:VEVENT
END:VCALENDAR